BEGIN:VCALENDAR
VERSION:2.0
PRODID:-//Ron Zoby Tours - ECPv6.15.16//NONSGML v1.0//EN
CALSCALE:GREGORIAN
METHOD:PUBLISH
X-ORIGINAL-URL:https://www.ronzobytours.com
X-WR-CALDESC:Events for Ron Zoby Tours
REFRESH-INTERVAL;VALUE=DURATION:PT1H
X-Robots-Tag:noindex
X-PUBLISHED-TTL:PT1H
BEGIN:VTIMEZONE
TZID:America/New_York
BEGIN:DAYLIGHT
TZOFFSETFROM:-0500
TZOFFSETTO:-0400
TZNAME:EDT
DTSTART:20230312T070000
END:DAYLIGHT
BEGIN:STANDARD
TZOFFSETFROM:-0400
TZOFFSETTO:-0500
TZNAME:EST
DTSTART:20231105T060000
END:STANDARD
BEGIN:DAYLIGHT
TZOFFSETFROM:-0500
TZOFFSETTO:-0400
TZNAME:EDT
DTSTART:20240310T070000
END:DAYLIGHT
BEGIN:STANDARD
TZOFFSETFROM:-0400
TZOFFSETTO:-0500
TZNAME:EST
DTSTART:20241103T060000
END:STANDARD
BEGIN:DAYLIGHT
TZOFFSETFROM:-0500
TZOFFSETTO:-0400
TZNAME:EDT
DTSTART:20250309T070000
END:DAYLIGHT
BEGIN:STANDARD
TZOFFSETFROM:-0400
TZOFFSETTO:-0500
TZNAME:EST
DTSTART:20251102T060000
END:STANDARD
END:VTIMEZONE
BEGIN:VEVENT
DTSTART;TZID=America/New_York:20241108T000000
DTEND;TZID=America/New_York:20241110T235959
DTSTAMP:20260419T103841
CREATED:20240717T153600Z
LAST-MODIFIED:20240717T153600Z
UID:10000777-1731024000-1731283199@www.ronzobytours.com
SUMMARY:Raleigh to Caesars / Harrah's / Tropicana - Atlantic City
DESCRIPTION:This is a Ron Zoby Tours Private Charter departing from Raleigh\, NC to Atlantic City\, NJ. If you would like to join us on this trip please RSVP by clicking below or please call us at (800) 233-5395.
URL:https://www.ronzobytours.com/event/raleigh-to-caesars-harrahs-tropica-atlantic-city-8/
CATEGORIES:Atlantic City,Raleigh
ATTACH;FMTTYPE=image/png:https://www.ronzobytours.com/wp-content/uploads/2022/05/caesars-atlantic-city-properties-Rs6iTm.tmp_.png
ORGANIZER;CN="Ron Zoby Tours":MAILTO:webmaster@ronzobytours.com
END:VEVENT
BEGIN:VEVENT
DTSTART;TZID=America/New_York:20241108T000000
DTEND;TZID=America/New_York:20241110T235959
DTSTAMP:20260419T103841
CREATED:20240717T153717Z
LAST-MODIFIED:20240717T153717Z
UID:10000795-1731024000-1731283199@www.ronzobytours.com
SUMMARY:Kinston to Caesars / Harrah's / Tropicana - Atlantic City
DESCRIPTION:This is a Ron Zoby Tours Private Charter departing from Kinston\, NC to Atlantic City\, NJ. If you would like to join us on this trip please RSVP by clicking below or please call us at (800) 233-5395.
URL:https://www.ronzobytours.com/event/kinston-to-caesars-harrahs-tropica-atlantic-city-10/
CATEGORIES:Atlantic City,Kinston
ATTACH;FMTTYPE=image/png:https://www.ronzobytours.com/wp-content/uploads/2022/05/caesars-atlantic-city-properties-Rs6iTm.tmp_.png
ORGANIZER;CN="Ron Zoby Tours":MAILTO:webmaster@ronzobytours.com
END:VEVENT
END:VCALENDAR